BEGIN:VCALENDAR
VERSION:2.0
PRODID:-//Naturforschende Gesellschaft Altenburg - ECPv6.15.20//NONSGML v1.0//EN
CALSCALE:GREGORIAN
METHOD:PUBLISH
X-ORIGINAL-URL:https://www.nfga.de
X-WR-CALDESC:Veranstaltungen für Naturforschende Gesellschaft Altenburg
REFRESH-INTERVAL;VALUE=DURATION:PT1H
X-Robots-Tag:noindex
X-PUBLISHED-TTL:PT1H
BEGIN:VTIMEZONE
TZID:Europe/Berlin
BEGIN:DAYLIGHT
TZOFFSETFROM:+0100
TZOFFSETTO:+0200
TZNAME:CEST
DTSTART:20240331T010000
END:DAYLIGHT
BEGIN:STANDARD
TZOFFSETFROM:+0200
TZOFFSETTO:+0100
TZNAME:CET
DTSTART:20241027T010000
END:STANDARD
BEGIN:DAYLIGHT
TZOFFSETFROM:+0100
TZOFFSETTO:+0200
TZNAME:CEST
DTSTART:20250330T010000
END:DAYLIGHT
BEGIN:STANDARD
TZOFFSETFROM:+0200
TZOFFSETTO:+0100
TZNAME:CET
DTSTART:20251026T010000
END:STANDARD
BEGIN:DAYLIGHT
TZOFFSETFROM:+0100
TZOFFSETTO:+0200
TZNAME:CEST
DTSTART:20260329T010000
END:DAYLIGHT
BEGIN:STANDARD
TZOFFSETFROM:+0200
TZOFFSETTO:+0100
TZNAME:CET
DTSTART:20261025T010000
END:STANDARD
END:VTIMEZONE
BEGIN:VEVENT
DTSTART;TZID=Europe/Berlin:20251013T100000
DTEND;TZID=Europe/Berlin:20251013T100000
DTSTAMP:20260421T134528
CREATED:20250916T073013Z
LAST-MODIFIED:20250916T091345Z
UID:20960-1760349600-1760349600@www.nfga.de
SUMMARY:Exkursion ins Wasserbüffelrevier - Hellwiese = Büffelwiese – Wieso\, Weshalb\, Warum- Wer nicht fragt\,…….
DESCRIPTION:– \n\n\n\n\nHellwiese = Büffelwiese – Wieso\, Weshalb\, Warum- Wer nicht fragt\,……. \n\n\n\n\n– \n\n\n\n\n\n \n\n\n\n\n\nTreffpunkt:  \n\n\n\n\n\nEingang Südbad Altenburg \n\n\n\n\n\n\n\n \n\n\n\n\n\nTermin: \n\n\n\n\n\n\n\n\n\n\n\n \n\n\n\n\n\n Leitung:  \n\n\n\n\n\nKathleen Lösch (NfGA) \n\n\n\n\n\n\n\n \n\n\n\n\n\n\n\n\n\n\n\n \n\n\n\n\n\n\n\n\n\n\n\n\n\n \n\n\n\n\n\nExkursion ins Wasserbüffelrevier \n\n\n\nHellwiese = Büffelwiese – Wieso\, Weshalb\, Warum- Wer nicht fragt\,……. \n\n\n\n– \n\n\n\n\n\n\n\n \n\n\n\n\n\nIn diesem Jahr erfolgt die erste Beweidung der Hellwiese durch die Wasserbüffel des NABU.  \n\n\n\nIhr erfahrt\, wozu das gut ist\, wie die Tiere ihren Job erledigen und welche ersten Veränderungen sich daraus ergeben haben.  \n\n\n\n \n\n\n\nJe nachdem\, ob die Büffel noch da sind oder nicht\, erkunden wir ihre Spuren auf der Fläche oder einem Teil davon.  \n\n\n\nAuf jeden Fall sollte man dazu in Gummistiefel und Räuberklamotten schlüpfen. \n\n\n\n\n\n \n\n\n\n\n\n– \n\n\n\n\n\n\n\n\n\n\n\n\n\n \n\n\n\n\n\nAnsprechpartner Öffentlichkeitsarbeit:        \n\n\n\n\n\nworschech@mauritianum.de /Tel.: 03447 890307
URL:https://www.nfga.de/veranstaltung/exkursion-ins-wasserbueffelrevier-hellwiese-bueffelwiese-wieso-weshalb-warum-wer-nicht-fragt/
CATEGORIES:Exkursion
ATTACH;FMTTYPE=image/jpeg:https://www.nfga.de/wp-content/uploads/2024/04/Wasserbueffel.jpg
END:VEVENT
END:VCALENDAR