BEGIN:VCALENDAR
VERSION:2.0
PRODID:-//Naturforschende Gesellschaft Altenburg - ECPv6.15.20//NONSGML v1.0//EN
CALSCALE:GREGORIAN
METHOD:PUBLISH
X-WR-CALNAME:Naturforschende Gesellschaft Altenburg
X-ORIGINAL-URL:https://www.nfga.de
X-WR-CALDESC:Veranstaltungen für Naturforschende Gesellschaft Altenburg
REFRESH-INTERVAL;VALUE=DURATION:PT1H
X-Robots-Tag:noindex
X-PUBLISHED-TTL:PT1H
BEGIN:VTIMEZONE
TZID:Europe/Berlin
BEGIN:DAYLIGHT
TZOFFSETFROM:+0100
TZOFFSETTO:+0200
TZNAME:CEST
DTSTART:20220327T010000
END:DAYLIGHT
BEGIN:STANDARD
TZOFFSETFROM:+0200
TZOFFSETTO:+0100
TZNAME:CET
DTSTART:20221030T010000
END:STANDARD
BEGIN:DAYLIGHT
TZOFFSETFROM:+0100
TZOFFSETTO:+0200
TZNAME:CEST
DTSTART:20230326T010000
END:DAYLIGHT
BEGIN:STANDARD
TZOFFSETFROM:+0200
TZOFFSETTO:+0100
TZNAME:CET
DTSTART:20231029T010000
END:STANDARD
BEGIN:DAYLIGHT
TZOFFSETFROM:+0100
TZOFFSETTO:+0200
TZNAME:CEST
DTSTART:20240331T010000
END:DAYLIGHT
BEGIN:STANDARD
TZOFFSETFROM:+0200
TZOFFSETTO:+0100
TZNAME:CET
DTSTART:20241027T010000
END:STANDARD
END:VTIMEZONE
BEGIN:VEVENT
DTSTART;TZID=Europe/Berlin:20230824T170000
DTEND;TZID=Europe/Berlin:20230824T190000
DTSTAMP:20260424T091635
CREATED:20230720T085716Z
LAST-MODIFIED:20251124T110011Z
UID:8995-1692896400-1692903600@www.nfga.de
SUMMARY:Die Zukunft vom Kleinen und Großen Teich Altenburg
DESCRIPTION:im Hinblick auf den Klimawandel\n\n\n\n\n\n\nEine Vortragsveranstaltung im Rahmen des Altenburger Klimasommers  \n\n\n\n\n\n\n\n\n\n\n\n\n\n\n\n \n\n\n\n \n\n\n\n\n\n\n\nThemenschwerpunkt: „Die Zukunft vom Kleinen und Großen Teich Altenburg im Hinblick auf den Klimawandel“ \n\n\n\nTermin:             24.08.2023  / 17:00 – 19:00 Uhr \n\n\n\nOrt:                       Mauritianum\, Parkstraße 10\, 04600 Altenburg \n\n\n\n \n\n\n\n\n\n\n\n \n\n\n\n\n\n\n\n\n\n\n\n\n\n\n\n\n\n\n\n\n\n(Eine Vortragsveranstaltung im Rahmen des Altenburger Klimasommers )   \n\n\n\n\n\n\n\n\n\n\n\n\n\n\n\n\nReferent: Prof. Henning Günther (HTW Dresden): „Lebende Inseln für ein besseres Stadtklima – Ökologische Gewässerentwicklung mit Schwimmenden Inseln“\n\n\n\nReferent: Dr. Alexander Borowski (NfGA): „Schwimmende Inseln im Großen Teich Altenburg?“\n\n\n\n\n\n\n\n\n\n\n\n\n\n\n\n\n— mit anschließender Diskussion — \n\n\n\n\n\n\n\nAm 24. August lädt die Naturforschende Gesellschaft Altenburg (NfGA) im Rahmen des Altenburger Klimasommers herzlich um 17:00 Uhr in das Mauritianum Altenburg zu einer etwa zweistündigen Veranstaltung und anschließender Diskussion mit dem Themenschwerpunkt „Die Zukunft von Kleinem und Großen Teich Altenburg im Hinblick auf den Klimawandel“ ein. Dazu referieren Prof. Henning Günther von der Hochschule für Technik und Wirtschaft Dresden (HTW) mit einem Grundlagenvortrag „Lebende Inseln für ein besseres Stadtklima – Ökologische Gewässerentwicklung mit Schwimmenden Inseln“ sowie Dr. Alexander Borowski (NfGA) mit einem lokalbezogenen Anwendungsvortrag „Schwimmende Inseln im Großen Teich Altenburg?“ . \n\n\n\n \n\n\n\n\n\n\n\n\n\n\n\n\n\n\n\nGewässer in der Stadt sind für ein angenehmes und gesundes Stadtklima äußerst bedeutsam – Altenburg kann sich glücklich schätzen\, gleich drei idyllische Teiche im Stadtkern zu haben! Doch auch sie „ächzen“ unter extrem heißen Sommertemperaturen und anhaltender Trockenheit! Stetig weniger werdendes Wasser\, hohe Wassertemperaturen und abnehmender Sauerstoffgehalt verschlechtern ihre Wasserqualität – ein Problem für viele Fische\, Muscheln und Kleinstlebewesen. Wir haben sicher alle noch Bilder aus vergangenen Sommern im Kopf\, als tote Fische\, grüne Algenteppiche oder Blaualgen im Großen und Kleinen Teich die Idylle trübten. \n\n\n\n\n\n\n\n\n\n\n\n\n\n\n\n\n\n\n\n\n\n \n\n\n\n\n\n \n\n\n\n\n\n\n\n\n\n\n\n\n\n\n\n \n\n\n\nDas bedeutet\, dass es in Zukunft Lösungen geben muss\, die unsere Altenburger Stadtgewässer auch unter Extrembedingungen gesund erhalten. Eine praxisrelevante Lösung fand das Team um Prof. Henning Günther an der Hochschule für Technik und Wirtschaft Dresden\, das seit einigen Jahren die Potenziale von schwimmenden\, biologischen Vegetationsinseln für urbane Gewässer erforscht (Bild 1). Diese künstlich geschaffenen\, lebenden Inseln aus schwimmenden Sumpfpflanzen können durch Beschattung und durch Verdunstung des Wassers\, durch Aufnahme von Kohlenstoffdioxid\, Stickstoffmonoxid\, Stickstoffdioxid und durch Bindung von Feinstaub aus der Luft das lokale Kleinklima begünstigen und zur Klimaresilienz beitragen. Nach dem Prinzip einer biologischen Kläranlage entziehen sie dem Wasser überschüssige Nährstoffe und bieten Wasservögeln\, Libellen und Jungfischen wertvolle Biotopstrukturen mit zahlreichen Lebensraumfunktionen. Für seine Forschungsarbeit erhielt Prof. Günther 2018 den ECOMED-Award. Innerhalb des Stadtökosystems aus Stadtwald\, Hellwiese\, Großem und Kleinen Teich sowie den historischen Hälterteichen am Kunstturm könnten schwimmende Inseln künftig auch in Altenburg eine ökologisch\, sozio-kulturell und ökonomisch wichtige Schlüsselfunktion einnehmen. \n\n\n\n\n\n\n\n\n\n\n\n\n\n\n\nAnsprechpartner Öffentlichkeitsarbeit:       worschech@mauritianum.de        Tel.: 03447 890307
URL:https://www.nfga.de/veranstaltung/die-zukunft-vom-kleinen-und-grossen-teich-altenburg-im-hinblick-auf-den-klimawandel/
CATEGORIES:Vortragsveranstaltung
ATTACH;FMTTYPE=image/jpeg:https://www.nfga.de/wp-content/uploads/2025/07/grosser_teich.jpg
END:VEVENT
END:VCALENDAR