BEGIN:VCALENDAR
VERSION:2.0
PRODID:-//Naturforschende Gesellschaft Altenburg - ECPv6.15.20//NONSGML v1.0//EN
CALSCALE:GREGORIAN
METHOD:PUBLISH
X-WR-CALNAME:Naturforschende Gesellschaft Altenburg
X-ORIGINAL-URL:https://www.nfga.de
X-WR-CALDESC:Veranstaltungen für Naturforschende Gesellschaft Altenburg
REFRESH-INTERVAL;VALUE=DURATION:PT1H
X-Robots-Tag:noindex
X-PUBLISHED-TTL:PT1H
BEGIN:VTIMEZONE
TZID:Europe/Berlin
BEGIN:DAYLIGHT
TZOFFSETFROM:+0100
TZOFFSETTO:+0200
TZNAME:CEST
DTSTART:20240331T010000
END:DAYLIGHT
BEGIN:STANDARD
TZOFFSETFROM:+0200
TZOFFSETTO:+0100
TZNAME:CET
DTSTART:20241027T010000
END:STANDARD
BEGIN:DAYLIGHT
TZOFFSETFROM:+0100
TZOFFSETTO:+0200
TZNAME:CEST
DTSTART:20250330T010000
END:DAYLIGHT
BEGIN:STANDARD
TZOFFSETFROM:+0200
TZOFFSETTO:+0100
TZNAME:CET
DTSTART:20251026T010000
END:STANDARD
BEGIN:DAYLIGHT
TZOFFSETFROM:+0100
TZOFFSETTO:+0200
TZNAME:CEST
DTSTART:20260329T010000
END:DAYLIGHT
BEGIN:STANDARD
TZOFFSETFROM:+0200
TZOFFSETTO:+0100
TZNAME:CET
DTSTART:20261025T010000
END:STANDARD
END:VTIMEZONE
BEGIN:VEVENT
DTSTART;TZID=Europe/Berlin:20251028T190000
DTEND;TZID=Europe/Berlin:20251028T190000
DTSTAMP:20260420T082924
CREATED:20251021T092619Z
LAST-MODIFIED:20251023T105148Z
UID:21481-1761678000-1761678000@www.nfga.de
SUMMARY:VORTRAGSVERANSTALTUNG: Adrian Gerloff (Tallinn/Estland): Artenreiche Vogelwelt zwischen Hochmoor und Ostseeküste – Ein landeskundlich-ornithologischer Streifzug durch Estland
DESCRIPTION:– \n\n\n\n\nArtenreiche Vogelwelt zwischen Hochmoor und Ostseeküste – Ein landeskundlich-ornithologischer Streifzug durch Estland \n\n\n\n\n– \n\n\n\n\n\n\n\n\n\nOrt:   \n\n\n\n\n\nNaturkundemuseum Mauritianum Altenburg \n\n\n\n\n\n\n	\n		\n\n			\n			\n\n			\n			\n							\n		\n	\n\n\n\n\n\n\n\n\n\n\n\n\n\nTermin: \n\n\n\n\n\n\n\n\n\n\n\n\n\n\n\nReferent:  \n\n\n\n\n\nAdrian Gerloff (Tallinn/Estland) \n\n\n\n\n\n\n\n\n\n\n\n\n\n\n\n\n\n\n\n\n\n\n\n\n\n \n\n\n\n\n\n\n\n\n\n\n\n\n\n \n\n\n\n\n\nAdrian Gerloff (Tallinn/Estland): Artenreiche Vogelwelt zwischen Hochmoor und Ostseeküste – Ein landeskundlich-ornithologischer Streifzug durch Estland \n\n\n\n– \n\n\n\n\n\n\n\n \n\n\n\n\n\nDie atemberaubende Vielfalt Estlands als Brutlebensraum und Rastgebiet für Zugvögel steht im Mittelpunkt eines neuen Vortrages im Naturkundemuseum Mauritianum Altenburg\, zu dem Naturfreunde\, Ornithologinnen und Interessierte herzlich eingeladen sind. \n\n\n\nAls Referent ist der seit 25 Jahren in Estland lebende Biologe und Naturreiseführer Adrian Gerloff (Tallinn) zu Gast. \n\n\n\nNeben einer ausführlichen Beschreibung der naturräumlichen Gegebenheiten des nördlichen Baltikums werden die charakteristischen Landschaften anhand der sechs Nationalparks und die Leitarten der jeweiligen Lebensräume ausführlich beschrieben. \n\n\n\n \n\n\n\nEstland\, Adrian Gerloff\n\n\n\n– \n\n\n\nDer Vortrag bietet faszinierende Einblicke in die Vogelwelt Estlands – von spektakulären Fotos seltener Arten und einschlägigen Hintergrundinformationen über die Situation innerhalb und außerhalb der Schutzgebiete. \n\n\n\nZudem erwarten die Zuhörer Tipps und Vorschläge über die Möglichkeiten des Reisens nach Estland.   \n\n\n\n \n\n\n\n\n\n \n\n\n\n\n\n\n\n \n\n\n\n\n\n \n\n\n\nEstland\, Adrian Gerloff\n\n\n\n\n\n \n\n\n\n\n\n \n\n\n\n\n\n \n\n\n\n\n\n– \n\n\n\n\n\n\n\nText: \n\n\n\n\n\nAdrian Gerloff \n\n\n\n\n\n\n\n\n\n\n\nFotos: \n\n\n\n\n\nAdrian Gerloff \n\n\n\n\n\n\n\n\n\n\n\n\n\n\n\nAnsprechpartner Öffentlichkeitsarbeit:   \n\n\n\n\n\nworschech@mauritianum.de Tel.: 03447 890307
URL:https://www.nfga.de/veranstaltung/vortragsveranstaltung-adrian-gerloff-tallinn-estland-artenreiche-vogelwelt-zwischen-hochmoor-und-ostseekueste-ein-landeskundlich-ornithologischer-streifzug-durch-estland/
CATEGORIES:Vortragsveranstaltung
ATTACH;FMTTYPE=image/jpeg:https://www.nfga.de/wp-content/uploads/2025/10/Mauritianum-ABG_400.jpg
END:VEVENT
END:VCALENDAR