BEGIN:VCALENDAR
VERSION:2.0
PRODID:-//Naturforschende Gesellschaft Altenburg - ECPv6.15.20//NONSGML v1.0//EN
CALSCALE:GREGORIAN
METHOD:PUBLISH
X-ORIGINAL-URL:https://www.nfga.de
X-WR-CALDESC:Veranstaltungen für Naturforschende Gesellschaft Altenburg
REFRESH-INTERVAL;VALUE=DURATION:PT1H
X-Robots-Tag:noindex
X-PUBLISHED-TTL:PT1H
BEGIN:VTIMEZONE
TZID:Europe/Berlin
BEGIN:DAYLIGHT
TZOFFSETFROM:+0100
TZOFFSETTO:+0200
TZNAME:CEST
DTSTART:20240331T010000
END:DAYLIGHT
BEGIN:STANDARD
TZOFFSETFROM:+0200
TZOFFSETTO:+0100
TZNAME:CET
DTSTART:20241027T010000
END:STANDARD
BEGIN:DAYLIGHT
TZOFFSETFROM:+0100
TZOFFSETTO:+0200
TZNAME:CEST
DTSTART:20250330T010000
END:DAYLIGHT
BEGIN:STANDARD
TZOFFSETFROM:+0200
TZOFFSETTO:+0100
TZNAME:CET
DTSTART:20251026T010000
END:STANDARD
BEGIN:DAYLIGHT
TZOFFSETFROM:+0100
TZOFFSETTO:+0200
TZNAME:CEST
DTSTART:20260329T010000
END:DAYLIGHT
BEGIN:STANDARD
TZOFFSETFROM:+0200
TZOFFSETTO:+0100
TZNAME:CET
DTSTART:20261025T010000
END:STANDARD
END:VTIMEZONE
BEGIN:VEVENT
DTSTART;TZID=Europe/Berlin:20251012T100000
DTEND;TZID=Europe/Berlin:20251012T160000
DTSTAMP:20260419T172817
CREATED:20250917T070150Z
LAST-MODIFIED:20250917T080645Z
UID:20984-1760263200-1760284800@www.nfga.de
SUMMARY:Apfel- und Birnensortenschau
DESCRIPTION:Apfel- und Birnensortenschau \n\n\n\n\n\n\n\n \n\n\n\n \n\n\n\nTermin:             12.10.25    /    10:00 – 16:00 Uhr \n\n\n\nWalter Janovsky (Kayna): Apfel- und Birnensortenbestimmung  \n\n\n\n\n\n \n\n\n\n \n\n\n\nWalter Janovsky (Kayna): Apfel- und Birnensortenbestimmung\n\n\n\n \n\n\n\n\n\n\n\n\n\nEin alljährlicher herbstlicher Besuchermagnet – die Apfel- und Birnensortenschau mit Sortenbestimmung  \n\n\n\n\n\n\n\n\n\n\n\n\n\n\n\nAm Sonntag\, dem 12.10.2025\, findet von 10 bis 16 Uhr eine Apfel- und Birnensorten-Ausstellung im Naturkundemuseum Mauritianum Altenburg statt. Trotz der anhaltenden Trockenheit in diesem Jahr biegen sich die Apfel- und Birnenbäume auch im Altenburger Land unter der schweren Last der Früchte und versprechen eine gute Ernte. Das Mauritianum lädt deshalb wieder zu einer interessanten und umfangreichen Sortenschau und zum fachlichen Austausch ein. Auch dieses Mal besteht die Möglichkeit\, sich Apfel- und Birnensorten aus dem eigenen Garten durch den Obstsortenkenner Walter Janovsky aus Kayna bestimmen zu lassen. Schon in seiner Kindheit hat der pensionierte Biologielehrer seine Leidenschaft für Äpfel entdeckt und sich über Jahrzehnte Wissen insbesondere über Apfelsorten angeeignet. Dieses möchte er vor allem an junge Leute weitergeben und ist darüber erfreut\, dass der Trend zur Eigenversorgung und zum Biokonsum im Aufwind ist. \n\n\n\nAuch die Kerne werden zur Sortenbestimmung herangezogen.\n\n\n\nFür die Sortenbestimmung ist nicht immer nur Farbe und Form\, Geschmack\, Aussehen oder Beschaffenheit der Schale als Merkmal ausschlaggebend\, sondern auch an den Kernen sind die Apfelsorten zu unterscheiden. Deshalb hat sich Walter Janovsky eine umfassende Sammlung von Apfel- und Birnenkernen angelegt\, die er oftmals zur Bestimmung hervorholen muss. Um Fehler zu vermeiden\, bittet er aber darum\, für die Sortenbestimmung mindestens drei Äpfel einer Sorte mitzubringen! \n\n\n\n\n\n\n\n\n\n\n\n\n\n\n\n\n\n\n\n\n\n\n\nFoto:           Obstsortenschau 2023 im Mauritianum Altenburg/ Quelle: Helga Müller\, Mauritianum \n\n\n\nAnsprechpartner Öffentlichkeitsarbeit:       worschech@mauritianum.de        Tel.: 03447 890307
URL:https://www.nfga.de/veranstaltung/apfel-und-birnensortenschau-3/
CATEGORIES:Sonderveranstaltung
ATTACH;FMTTYPE=image/jpeg:https://www.nfga.de/wp-content/uploads/2025/09/Obstsortenschau-2023-Mauritianum-Altenburg-H.-Mueller.jpg
END:VEVENT
END:VCALENDAR