BEGIN:VCALENDAR
VERSION:2.0
PRODID:-//Naturforschende Gesellschaft Altenburg - ECPv6.15.20//NONSGML v1.0//EN
CALSCALE:GREGORIAN
METHOD:PUBLISH
X-WR-CALNAME:Naturforschende Gesellschaft Altenburg
X-ORIGINAL-URL:https://www.nfga.de
X-WR-CALDESC:Veranstaltungen für Naturforschende Gesellschaft Altenburg
REFRESH-INTERVAL;VALUE=DURATION:PT1H
X-Robots-Tag:noindex
X-PUBLISHED-TTL:PT1H
BEGIN:VTIMEZONE
TZID:Europe/Berlin
BEGIN:DAYLIGHT
TZOFFSETFROM:+0100
TZOFFSETTO:+0200
TZNAME:CEST
DTSTART:20240331T010000
END:DAYLIGHT
BEGIN:STANDARD
TZOFFSETFROM:+0200
TZOFFSETTO:+0100
TZNAME:CET
DTSTART:20241027T010000
END:STANDARD
BEGIN:DAYLIGHT
TZOFFSETFROM:+0100
TZOFFSETTO:+0200
TZNAME:CEST
DTSTART:20250330T010000
END:DAYLIGHT
BEGIN:STANDARD
TZOFFSETFROM:+0200
TZOFFSETTO:+0100
TZNAME:CET
DTSTART:20251026T010000
END:STANDARD
BEGIN:DAYLIGHT
TZOFFSETFROM:+0100
TZOFFSETTO:+0200
TZNAME:CEST
DTSTART:20260329T010000
END:DAYLIGHT
BEGIN:STANDARD
TZOFFSETFROM:+0200
TZOFFSETTO:+0100
TZNAME:CET
DTSTART:20261025T010000
END:STANDARD
END:VTIMEZONE
BEGIN:VEVENT
DTSTART;TZID=Europe/Berlin:20251003T190000
DTEND;TZID=Europe/Berlin:20251003T203000
DTSTAMP:20260420T100857
CREATED:20250915T112124Z
LAST-MODIFIED:20250916T091612Z
UID:20912-1759518000-1759523400@www.nfga.de
SUMMARY:Im Dunkeln im Naturkundemuseum? Gruselig? Nein Spannend!
DESCRIPTION:Bitte nicht vergessen\, eine Taschenlampe mitzubringen! \n\n\n\n\n\nIm Dunkeln im Naturkundemuseum? Gruselig? Nein Spannend! \n\n\n\n\n\n\n\n\n\n \n\n\n\n \n\n\n\n\n\n\n\n \n\n\n\n \n\n\n\nTermin:             03.10.25    /     19.00 – 20.30 Uhr \n\n\n\nLeitung:       Kathrin Worschech\, Lutz Gebhardt \n\n\n\nAlter:                    ab 6 Jahre    \n\n\n\nKosten:                6\,00 € p.P. \n\n\n\nAnmeldung:               info@mauritianum.de oder 03447/5124938 \n\n\n\nOrt:                       Mauritianum\, Parkstraße 10\, 04600 Altenburg \n\n\n\n\n\n \n\n\n\n \n\n\n\n \n\n\n\n\n\n\n\n\n\n\n\n\n\n\n\n\n\n\n\n\n\n\n\n\n\n\n\n\n\n\n\n\n\n\n\n\n\n\n\nWenn sich die Türen des Naturkundemuseums für Besucher am Abend schließen\, versinken die Ausstellungsräume in Dunkelheit und Stille.  \n\n\n\nOder etwa nicht?  \n\n\n\nUm dies herauszufinden\, lädt die Museumsbiologin Kathrin Worschech furchtlose und neugierige Kinder zu einer Taschenlampenführung durch die dunklen Museumsräume des Mauritianums ein. \n\n\n\nWer wohl zuerst die großen\, gelben Augen des Uhus\, die Millionenjahre alten Zähne von Dinosauriern oder die riesigen Fangbeine der Riesenkrabbe im Schein seiner Taschenlampe entdeckt?  \n\n\n\nMit einer Speziallampe lassen sich sogar manch grauen unscheinbaren Objekten leuchtende Neonfarben entlocken.  \n\n\n\n\n\n\n\n\n\nBitte nicht vergessen\, eine Taschenlampe mitzubringen! \n\n\n\nBitte haben Sie Verständnis\, dass die Teilnehmerzahl begrenzt ist und Personen ohne Anmeldung nicht an der Führung teilnehmen können. \n\n\n\n\n\n\n\n\n\nAnsprechpartner Öffentlichkeitsarbeit:       worschech@mauritianum.de  /Tel.: 03447 890307
URL:https://www.nfga.de/veranstaltung/im-dunkeln-im-naturkundemuseum-gruselig-nein-spannend-6/
CATEGORIES:Ferienveranstaltung
ATTACH;FMTTYPE=image/jpeg:https://www.nfga.de/wp-content/uploads/2025/09/Abb.-10-Taschenlampenfuehrung-scaled.jpg
END:VEVENT
END:VCALENDAR