BEGIN:VCALENDAR
VERSION:2.0
PRODID:-//Naturforschende Gesellschaft Altenburg - ECPv6.15.20//NONSGML v1.0//EN
CALSCALE:GREGORIAN
METHOD:PUBLISH
X-WR-CALNAME:Naturforschende Gesellschaft Altenburg
X-ORIGINAL-URL:https://www.nfga.de
X-WR-CALDESC:Veranstaltungen für Naturforschende Gesellschaft Altenburg
REFRESH-INTERVAL;VALUE=DURATION:PT1H
X-Robots-Tag:noindex
X-PUBLISHED-TTL:PT1H
BEGIN:VTIMEZONE
TZID:Europe/Berlin
BEGIN:DAYLIGHT
TZOFFSETFROM:+0100
TZOFFSETTO:+0200
TZNAME:CEST
DTSTART:20240331T010000
END:DAYLIGHT
BEGIN:STANDARD
TZOFFSETFROM:+0200
TZOFFSETTO:+0100
TZNAME:CET
DTSTART:20241027T010000
END:STANDARD
BEGIN:DAYLIGHT
TZOFFSETFROM:+0100
TZOFFSETTO:+0200
TZNAME:CEST
DTSTART:20250330T010000
END:DAYLIGHT
BEGIN:STANDARD
TZOFFSETFROM:+0200
TZOFFSETTO:+0100
TZNAME:CET
DTSTART:20251026T010000
END:STANDARD
BEGIN:DAYLIGHT
TZOFFSETFROM:+0100
TZOFFSETTO:+0200
TZNAME:CEST
DTSTART:20260329T010000
END:DAYLIGHT
BEGIN:STANDARD
TZOFFSETFROM:+0200
TZOFFSETTO:+0100
TZNAME:CET
DTSTART:20261025T010000
END:STANDARD
END:VTIMEZONE
BEGIN:VEVENT
DTSTART;TZID=Europe/Berlin:20250826T190000
DTEND;TZID=Europe/Berlin:20250826T190000
DTSTAMP:20260419T235022
CREATED:20250724T091045Z
LAST-MODIFIED:20250811T083339Z
UID:20441-1756234800-1756234800@www.nfga.de
SUMMARY:Der Biber – Ökosystemdienstleister im Landkreis Leipzig.
DESCRIPTION:– \n\n\n\n\nSven Möhring (Untere Naturschutzbehörde Landkreis Leipzig):  \n\n\n\nDer Biber – Ökosystemdienstleister im Landkreis Leipzig. \n\n\n\n\n– \n\n\n\n\n\nOrt:   \n\n\n\n\n\nNaturkundemuseum Mauritianum Parkstraße 10\, 04600 Altenburg \n\n\n\n\n\n\n\nTermin: \n\n\n\n\n\n\n\n\n\n\n\nReferent:  \n\n\n\n\n\nSven Möhring von der Unteren Naturschutzbehörde des Landkreises Leipzig \n\n\n\n\n\n\n\n \n\n\n\n\n\n\n\n\n\n\n\n\n\n \n\n\n\n\n\nSven Möhring (Untere Naturschutzbehörde Landkreis Leipzig): Der Biber – Ökosystemdienstleister im Landkreis Leipzig. \n\n\n\n– \n\n\n\n\n\n\n\n \n\n\n\n\n\nDer Biber ist nun auch im Altenburger Land angekommen – Befürchtungen\, Freude\, Ängste\, Hoffnungen vermischen sich in den Diskussionen. Was ist da nicht naheliegender\, als einen Blick in den benachbarten Landkreis Leipzig zu werfen und von dem zeitlichen Erfahrungsvorsprung der Sachsen zu profitieren. \n\n\n\n \n\n\n\nDeshalb freuen wir uns auf den Referenten Sven Möhring von der Unteren Naturschutzbehörde des Landkreises Leipzig\, der am 26. August um 19 Uhr im Naturkundemuseum Mauritianum Altenburg über das Thema „Der Biber – Ökosystemdienstleister im Landkreis Leipzig“ sprechen wird.. \n\n\n\n\n\n \n\n\n\n\n\n\n\n \n\n\n\n\n\n– \n\n\n\nDie intensive Verfolgung der Bibe sowie der Ausbau und die Verschmutzung der Fließgewässer brachten den Biber in Europa an den Rand der Ausrottung. Auf dem heutigen Territorium des benachbarten Landkreises Leipzig ist der letzte historische Nachweis einiger weniger Biber (an der Mulde bei Wurzen) für das Jahr 1822 belegt. \n\n\n\nDem Überleben einer kleinen Restpopulation (ca. 190 Tiere) entlang der Elbe bei Dessau ist es zu verdanken\, dass sich die Art Mitte des 20. Jahrhunderts in Folge intensiver Schutzmaßnahmen allmählich wieder erholen und ausbreiten konnte. \n\n\n\nSo kam es einer Sensation gleich\, als 1967 frische Biber-Nagespuren an Gehölzen der Vereinigten Mulde bei Kollau entdeckt wurden. Seitdem ist der Elbebiber aus der Fauna des Landkreises Leipzig nicht mehr wegzudenken und breitet sich noch immer weiter aus. \n\n\n\nDank der gesammelten Beobachtungsdaten ehrenamtlicher Biberbetreuer wird der Bestand auf 150 bis 225 Tiere im Landkreis Leipzig geschätzt (Stand 2017/18). \n\n\n\n– \n\n\n\n\n\n\n\n\n\n\n\n\n\n\n\n\n\n\n\n\n\n\n\n \n\n\n\n\n\n\n\nFoto: \n\n\n\n\n\nFoto 1  Biber Lkrs. Leipzig / Foto 2 Biber Nagespuren Lkrs. Leipzig \n\n\n\n\n\n\n\nText: \n\n\n\n\n\nSven Möhring/Kathrin Worschech \n\n\n\n\n\n\n\n\n\nAnsprechpartner Öffentlichkeitsarbeit:       worschech@mauritianum.de        Tel.: 03447 890307
URL:https://www.nfga.de/veranstaltung/der-biber-oekosystemdienstleister-im-landkreis-leipzig/
CATEGORIES:Vortragsveranstaltung
ATTACH;FMTTYPE=image/jpeg:https://www.nfga.de/wp-content/uploads/2025/07/Foto-1-Biber-Lkrs-Leipzig-Foto-S.-Moehring_300-.jpg
END:VEVENT
END:VCALENDAR